BEGIN:VCALENDAR
VERSION:2.0
PRODID:-//SOLEO - ECPv5.8.0//NONSGML v1.0//EN
CALSCALE:GREGORIAN
METHOD:PUBLISH
X-WR-CALNAME:SOLEO
X-ORIGINAL-URL:https://www.soleo-info.com
X-WR-CALDESC:évènements pour SOLEO
BEGIN:VTIMEZONE
TZID:Europe/Paris
BEGIN:DAYLIGHT
TZOFFSETFROM:+0100
TZOFFSETTO:+0200
TZNAME:CEST
DTSTART:20180325T010000
END:DAYLIGHT
BEGIN:STANDARD
TZOFFSETFROM:+0200
TZOFFSETTO:+0100
TZNAME:CET
DTSTART:20181028T010000
END:STANDARD
END:VTIMEZONE
BEGIN:VEVENT
DTSTART;VALUE=DATE:20180208
DTEND;VALUE=DATE:20180209
DTSTAMP:20260420T041625
CREATED:20170628T164818Z
LAST-MODIFIED:20171229T224825Z
UID:318-1518048000-1518134399@www.soleo-info.com
SUMMARY:Espace Eole - Craponne (69)
DESCRIPTION:Séance scolaire à 14h.
URL:https://www.soleo-info.com/event/espace-eole/
LOCATION:Craponne\, Craponne\, 69000\, France
CATEGORIES:Spectacle
END:VEVENT
END:VCALENDAR