BEGIN:VCALENDAR
VERSION:2.0
PRODID:-//SOLEO - ECPv5.8.0//NONSGML v1.0//EN
CALSCALE:GREGORIAN
METHOD:PUBLISH
X-WR-CALNAME:SOLEO
X-ORIGINAL-URL:https://www.soleo-info.com
X-WR-CALDESC:évènements pour SOLEO
BEGIN:VTIMEZONE
TZID:Europe/Paris
BEGIN:DAYLIGHT
TZOFFSETFROM:+0100
TZOFFSETTO:+0200
TZNAME:CEST
DTSTART:20200329T010000
END:DAYLIGHT
BEGIN:STANDARD
TZOFFSETFROM:+0200
TZOFFSETTO:+0100
TZNAME:CET
DTSTART:20201025T010000
END:STANDARD
END:VTIMEZONE
BEGIN:VEVENT
DTSTART;VALUE=DATE:20200208
DTEND;VALUE=DATE:20200209
DTSTAMP:20260425T153523
CREATED:20190509T150701Z
LAST-MODIFIED:20190509T150701Z
UID:8037-1581120000-1581206399@www.soleo-info.com
SUMMARY:Ecole de musique - Tignieu Jamezieu (38)
DESCRIPTION:
URL:https://www.soleo-info.com/event/ecole-de-musique-tignieu-jamezieu-38/
LOCATION:Tignieu Jamezieu\, Tignieu Jamezieu\, France
CATEGORIES:Atelier,Spectacle
END:VEVENT
END:VCALENDAR