BEGIN:VCALENDAR
VERSION:2.0
PRODID:-//SOLEO - ECPv5.8.0//NONSGML v1.0//EN
CALSCALE:GREGORIAN
METHOD:PUBLISH
X-WR-CALNAME:SOLEO
X-ORIGINAL-URL:https://www.soleo-info.com
X-WR-CALDESC:évènements pour SOLEO
BEGIN:VTIMEZONE
TZID:Europe/Paris
BEGIN:DAYLIGHT
TZOFFSETFROM:+0100
TZOFFSETTO:+0200
TZNAME:CEST
DTSTART:20210328T010000
END:DAYLIGHT
BEGIN:STANDARD
TZOFFSETFROM:+0200
TZOFFSETTO:+0100
TZNAME:CET
DTSTART:20211031T010000
END:STANDARD
END:VTIMEZONE
BEGIN:VEVENT
DTSTART;VALUE=DATE:20210315
DTEND;VALUE=DATE:20210316
DTSTAMP:20260421T123914
CREATED:20200525T142832Z
LAST-MODIFIED:20200525T142832Z
UID:8270-1615766400-1615852799@www.soleo-info.com
SUMMARY:Centre des Arts Pluriels Ettelbruck - Luxembourg
DESCRIPTION:1 séance scolaire
URL:https://www.soleo-info.com/event/centre-des-arts-pluriels-ettelbruck-luxembourg-2/
LOCATION:Ettelbruck\, Luxembourg
CATEGORIES:Spectacle
END:VEVENT
END:VCALENDAR